BEGIN:VCALENDAR
PRODID:-//Mozilla.org/NONSGML Mozilla Calendar V1.1//EN
VERSION:2.0
BEGIN:VEVENT
UID:69e8bec367d3e
DTSTAMP:20260422T122747Z
DTSTART:20240601T100000Z
DTEND:20240618T100000Z
SUMMARY:demo test priti
DESCRIPTION:demo priti test event content
END:VEVENT
END:VCALENDAR